BEGIN:VCALENDAR
VERSION:2.0
PRODID:-//Nora&#039;s Playhouse - ECPv6.15.20//NONSGML v1.0//EN
CALSCALE:GREGORIAN
METHOD:PUBLISH
X-WR-CALNAME:Nora&#039;s Playhouse
X-ORIGINAL-URL:https://www.norasplayhouse.org
X-WR-CALDESC:Events for Nora&#039;s Playhouse
REFRESH-INTERVAL;VALUE=DURATION:PT1H
X-Robots-Tag:noindex
X-PUBLISHED-TTL:PT1H
BEGIN:VTIMEZONE
TZID:America/New_York
BEGIN:DAYLIGHT
TZOFFSETFROM:-0500
TZOFFSETTO:-0400
TZNAME:EDT
DTSTART:20190310T070000
END:DAYLIGHT
BEGIN:STANDARD
TZOFFSETFROM:-0400
TZOFFSETTO:-0500
TZNAME:EST
DTSTART:20191103T060000
END:STANDARD
BEGIN:DAYLIGHT
TZOFFSETFROM:-0500
TZOFFSETTO:-0400
TZNAME:EDT
DTSTART:20200308T070000
END:DAYLIGHT
BEGIN:STANDARD
TZOFFSETFROM:-0400
TZOFFSETTO:-0500
TZNAME:EST
DTSTART:20201101T060000
END:STANDARD
BEGIN:DAYLIGHT
TZOFFSETFROM:-0500
TZOFFSETTO:-0400
TZNAME:EDT
DTSTART:20210314T070000
END:DAYLIGHT
BEGIN:STANDARD
TZOFFSETFROM:-0400
TZOFFSETTO:-0500
TZNAME:EST
DTSTART:20211107T060000
END:STANDARD
END:VTIMEZONE
BEGIN:VEVENT
DTSTART;TZID=America/New_York:20201026T190000
DTEND;TZID=America/New_York:20201028T213000
DTSTAMP:20260421T133115
CREATED:20200229T190913Z
LAST-MODIFIED:20200509T172708Z
UID:12335-1603738800-1603920600@www.norasplayhouse.org
SUMMARY:Barlow Reading: Leah Barsanti's "The Almost Emperor of the Unofficial Deestrick of Lake Michigan"
DESCRIPTION:Nora’s Playhouse and our fellow women-in-theatre-focused nonprofit History Matters/Back to the Future are proud to present a staged reading of Leah Barsanti’s Judith Barlow Award-winning play: \nThe Almost Emperor of the Unofficial Deestrick of Lake Michigan\nIt is the 1920s in Chicago\, and The District of Lake Michigan is thriving. Led by Cap and Ma Streeter\, the lakefront plot of land that houses the District is occupied by a ragtag group of Chicagoans living outside the law. They have been allowed to live there\, pretty much undisturbed\, for decades\, but now they are in the way of millionaire Potter Palmer’s master plan to expand his holdings onto Lake Shore Drive. Not one to do his own dirty work\, Palmer sends puppets (Sargeant O’Malley and N.A. Warpbank) to remove Streeter and his followers from the land once and for all. \n*** \nLeah Barsanti\, winner of the 2020 Judith Barlow Prize\nThe Judith Barlow Prize is awarded by History Matters/Back to the The Future annually to a student playwright for an  exceptional one-act play inspired by the work of an historic female playwright. The student winner of the prize receives a $2\,500 award and a reading of their work in New York City\, with a $500 award to the participating professor of the course in which the inspiring play was taught. Leah Barsanti of Northwestern University was inspired by Lorraine Hansberry’s A Raisin in the Sun and sponsored by Professor Roxane Heinze-Bradshaw. \nThis is Nora’s Playhouse’s first year collaborating with History Matters/Back to the The Future to produce a reading of the Barlow Award winning piece. \nThe reading will be held at 7:00pm on Monday\, April 20\, 2020 at the Episcopal Actors’ Guild (1 East 29th Street\, NYC 10016). The reading will be followed by a talkback and a brief wine and cheese reception.
URL:https://www.norasplayhouse.org/event/judith-barlow-prize-reading/
LOCATION:Episcopal Actors’ Guild\, 1 East 29th St.\, 2nd Floor\, Guild Hall\, New York\, NY\, 10016\, United States
CATEGORIES:The Judith Barlow Award
ATTACH;FMTTYPE=image/jpeg:https://www.norasplayhouse.org/wp-content/uploads/2020/02/streeter-collage-sq-sepia.jpg
END:VEVENT
END:VCALENDAR